BEGIN:VCALENDAR
VERSION:2.0
PRODID:-//wp-events-plugin.com//7.2.3.1//EN
TZID:America/New_York
X-WR-TIMEZONE:America/New_York
BEGIN:VEVENT
UID:901@clevelandphoto.org
DTSTART;TZID=America/New_York:20260407T190000
DTEND;TZID=America/New_York:20260407T190000
DTSTAMP:20260307T170258Z
URL:https://www.clevelandphoto.org/events/mentor-mentee-presentation-meeti
 ng-details-to-follow/
SUMMARY:Mentor/Mentee Presentation Meeting
DESCRIPTION:It's mentor rollout night\, and your only chance to sign up for
  a mentor!  Each mentor will give a brief description of their style\, da
 te/time availability\, genre\, shooting locations\, etc.  While this will
  be broadcast to view in the comfort of your home\, if you are present in 
 the clubroom\, you have two advantages.  You can meet and ask mentors que
 stions\, and you get the first choice.  While there are no guarantees\, y
 ou will have the advantage.  Mentors: We need to hear from you.  If you 
 plan on being a mentor\, email Catherine Kenngott at catkenngo1@gmail.com.
END:VEVENT
BEGIN:VTIMEZONE
TZID:America/New_York
X-LIC-LOCATION:America/New_York
BEGIN:DAYLIGHT
DTSTART:20260308T030000
TZOFFSETFROM:-0500
TZOFFSETTO:-0400
TZNAME:EDT
END:DAYLIGHT
END:VTIMEZONE
END:VCALENDAR