BEGIN:VCALENDAR
VERSION:2.0
PRODID:-//wp-events-plugin.com//7.2.3.1//EN
TZID:America/New_York
X-WR-TIMEZONE:America/New_York
BEGIN:VEVENT
UID:780@clevelandphoto.org
DTSTART;TZID=America/New_York:20250902T193000
DTEND;TZID=America/New_York:20250902T220000
DTSTAMP:20250729T211529Z
URL:https://www.clevelandphoto.org/events/mentor-mentee-presentation-meeti
 ng-4/
SUMMARY:Mentor / Mentee Presentation Meeting
DESCRIPTION:When opportunity knocks...\nJoin us at the CPS clubroom for our
  Spring session Mentor presentations!  We have a wonderful lineup of Ment
 ors ready to take you under their photographic wings and help you become t
 he photographer you’ve always wanted to be. Birds in flight\, flowers up
  close\, beautiful landscapes\, cascading waterfalls\, interesting people\
 , your pets... whatever creative visual expression you wish to capture\, d
 o so with the guidance of a mentor and take your photography to a new leve
 l.\n\nThose who attend in person will have the benefit of early signup.  
 Those who join the meeting via livestream will be delayed by approximately
  one hour.\n\n&nbsp\;
END:VEVENT
BEGIN:VTIMEZONE
TZID:America/New_York
X-LIC-LOCATION:America/New_York
BEGIN:DAYLIGHT
DTSTART:20250309T030000
TZOFFSETFROM:-0500
TZOFFSETTO:-0400
TZNAME:EDT
END:DAYLIGHT
END:VTIMEZONE
END:VCALENDAR