BEGIN:VCALENDAR
VERSION:2.0
PRODID:-//wp-events-plugin.com//7.2.3.1//EN
TZID:America/New_York
X-WR-TIMEZONE:America/New_York
BEGIN:VEVENT
UID:606@clevelandphoto.org
DTSTART;TZID=America/New_York:20250402T193000
DTEND;TZID=America/New_York:20250402T220000
DTSTAMP:20250329T225121Z
URL:https://www.clevelandphoto.org/events/mentor-mentee-presentation-meeti
 ng-3/
SUMMARY:Mentor / Mentee Presentation Meeting
DESCRIPTION:When opportunity knocks...\n\nJoin us at the CPS clubroom for o
 ur Spring session Mentor presentations!  We have a wonderful line up of M
 entors ready to take you under their photographic wings and help you becom
 e the photographer you’ve always wanted to be. Birds in flight\, flowers
  up close\, beautiful landscapes\, cascading waterfalls\, interesting peop
 le\, your pets... whatever creative visual expression you wish to capture\
 , do so with guidance of a mentor and take your photography to a new level
 .\n\nThose who attend in person will have the advantage of signing up for 
 a Mentor (1st\, 2nd and 3rd choice) as soon as the presentations end. Thos
 e who join us via livestream will be delayed by 1 hour.\n\nLearn more abou
 t the program on the Mentorship page.
END:VEVENT
BEGIN:VTIMEZONE
TZID:America/New_York
X-LIC-LOCATION:America/New_York
BEGIN:DAYLIGHT
DTSTART:20250309T030000
TZOFFSETFROM:-0500
TZOFFSETTO:-0400
TZNAME:EDT
END:DAYLIGHT
END:VTIMEZONE
END:VCALENDAR