BEGIN:VCALENDAR
VERSION:2.0
PRODID:-//wp-events-plugin.com//7.2.3.1//EN
TZID:America/New_York
X-WR-TIMEZONE:America/New_York
BEGIN:VEVENT
UID:262@clevelandphoto.org
DTSTART;TZID=America/New_York:20240126T193000
DTEND;TZID=America/New_York:20240126T210000
DTSTAMP:20231202T150205Z
URL:https://www.clevelandphoto.org/events/mentee-and-montor-show-and-tell/
SUMMARY:Mentee and Mentor Show and Tell
DESCRIPTION:Ever wonder what you can learn to do with a mentor? We would li
 ke to show off a few photos from the past mentor rounds so you can see som
 e before and after results\, and learn from some of our mentees what they 
 think they have gained. Many mentees go on to do well in the “B” Compe
 titions\, and then do well in regular competitions. Some become mentors th
 emselves\, and pass their new knowledge on.\nAnd who knows\, we bet there 
 are a few crazy stories to be told!\nOur mentor program is one of the best
  benefits of CPS. Join us for a night of showing what the mentees have lea
 rned and produced. An evening of fabulous images and fellowship.\n\n\n\n\n
 \n\n\n&nbsp\;\n\n&nbsp\;
END:VEVENT
BEGIN:VTIMEZONE
TZID:America/New_York
X-LIC-LOCATION:America/New_York
BEGIN:STANDARD
DTSTART:20231105T010000
TZOFFSETFROM:-0400
TZOFFSETTO:-0500
TZNAME:EST
END:STANDARD
END:VTIMEZONE
END:VCALENDAR