BEGIN:VCALENDAR
VERSION:2.0
PRODID:-//wp-events-plugin.com//7.2.3.1//EN
TZID:America/New_York
X-WR-TIMEZONE:America/New_York
BEGIN:VEVENT
UID:135@clevelandphoto.org
DTSTART;TZID=America/New_York:20230829T193000
DTEND;TZID=America/New_York:20230829T220000
DTSTAMP:20230616T131104Z
URL:https://www.clevelandphoto.org/events/meet-the-mentors-night/
SUMMARY:Meet the Mentors Night
DESCRIPTION:A night to meet the new mentors and view their work to help mak
 e a choice as to which mentor is right for you. More details to follow.
END:VEVENT
BEGIN:VTIMEZONE
TZID:America/New_York
X-LIC-LOCATION:America/New_York
BEGIN:DAYLIGHT
DTSTART:20230312T030000
TZOFFSETFROM:-0500
TZOFFSETTO:-0400
TZNAME:EDT
END:DAYLIGHT
END:VTIMEZONE
END:VCALENDAR