BEGIN:VCALENDAR
VERSION:2.0
PRODID:-//wp-events-plugin.com//7.2.3.1//EN
TZID:America/New_York
X-WR-TIMEZONE:America/New_York
BEGIN:VEVENT
UID:313@clevelandphoto.org
DTSTART;TZID=America/New_York:20240601T063000
DTEND;TZID=America/New_York:20240601T110000
DTSTAMP:20240519T031221Z
URL:https://www.clevelandphoto.org/events/mansfield-reformatory-field-trip
 /
SUMMARY:Field Trip - Closed! Mansfield Reformatory
DESCRIPTION:  \n\nJoin CPS for a return to one of our most popular field tr
 ip destinations - the former Ohio State Reformatory in Mansfield.\n\nItine
 rary: For four hours beginning at 7 am\, we will have unimpeded access to 
 the entire Reformatory until the doors open to the general public at 11. D
 uring this period\, tripods\, flash and light painting will be permitted (
 no drones or model photography).\n\n&nbsp\;\n\nTime: Must arrive by 6:30am
  for sign-in.\n\n&nbsp\;\n\nCost: Cost for this trip will be $42 per perso
 n.\nThis field trip is open to Club Members ONLY at this time but advance 
 sign-up and payment are required. Sign-Up will be sent out in April.  We 
 have committed to a minimum number of attendees and may need to cancel the
  trip if the minimum is not met.  If minimum is not met\, we will open to
  everyone prior to canceling.  Please don't wait until the last minute to
  register! **Payment for this field trip MUST be made in advance through t
 he PayPal links - no registrations can be accepted on the day of the event
 . No refunds after 5pm on 5/15 for any reason. PLEASE NOTE: you will recei
 ve a confirmation for your purchase through PayPal but NO PHYSICAL TICKETS
  will be issued. Those who register will receive an email approximately on
 e week before the event with all info.\n\n&nbsp\;\n\nDirections: For a map
 : click here\n\n&nbsp\;\n\nAdditional Information: For more information ab
 out the Reformatory\, visit: Mansfield Reformatory\n\nSince Mansfield is a
  bit of a drive and the Reformatory trip will end before noon\, plan to ma
 ke a day of it in the area and visit some of the other nearby attractions\
 , all a short drive from the Reformatory.\nOptions include:\n\n 	For Lunch
 : Coney Island Diner (can't be beat for food and atmosphere)\n 	Richland C
 arrousel Park: Website\n 	Kingwood Center Gardens: Website\n 	Malabar Farm
  State Park: Website\n\nAnd relax at the end of the day with a visit to: C
 ypress Hill Winery\n\n&nbsp\;\n\nField Trip Sponsor: Jerry Phenney for coo
 rdinating this trip!\n\n&nbsp\;\n\nAdditional Questions: Email: Field Trip
 s\n\n&nbsp\;\n\nPLEASE NOTE: As with all field trips\, CPS cannot be held 
 responsible for any accidents or injuries - participate at your own risk.\
 n\n&nbsp\;\n\n&nbsp\;\n\n&nbsp\;
LOCATION:https://goo.gl/maps/VHkxG6quLeVZLehn8?coh=178573&entry=tt
END:VEVENT
BEGIN:VTIMEZONE
TZID:America/New_York
X-LIC-LOCATION:America/New_York
BEGIN:DAYLIGHT
DTSTART:20240310T030000
TZOFFSETFROM:-0500
TZOFFSETTO:-0400
TZNAME:EDT
END:DAYLIGHT
END:VTIMEZONE
END:VCALENDAR