BEGIN:VCALENDAR
VERSION:2.0
PRODID:-//wp-events-plugin.com//7.2.3.1//EN
TZID:America/New_York
X-WR-TIMEZONE:America/New_York
BEGIN:VEVENT
UID:126@clevelandphoto.org
DTSTART;TZID=America/New_York:20230603T063000
DTEND;TZID=America/New_York:20230603T110000
DTSTAMP:20230531T210057Z
URL:https://www.clevelandphoto.org/events/mansfield-reformatory-field-trip
 -registration-closed/
SUMMARY:Mansfield Reformatory Field Trip - Registration Closed
DESCRIPTION:  \n\nJoin CPS for a return to one of our most popular field tr
 ip destinations - the former Ohio State Reformatory in Mansfield.\n\nItine
 rary: For four hours beginning at 7 am\, we will have unimpeded access to 
 the entire Reformatory until the doors open to the general public at 11. D
 uring this period\, tripods\, flash and light painting will be permitted (
 no drones or model photography). We are NOT permitted to stay past 11am.\n
 \n&nbsp\;\n\nTime: Must arrive by 6:30am for sign-in.\n\n&nbsp\;\n\nCost: 
 Cost for this trip will be $32 per person.\nThis field trip is open to EVE
 RYONE but advance sign-up and payment are required. We have committed to a
  minimum number of attendees and may need to cancel the trip if the minimu
 m is not met. Please don't wait until the last minute to register! **Payme
 nt for this field trip MUST be made in advance through the PayPal links - 
 no registrations can be accepted on the day of the event. No refunds after
  5pm on 5/20 for any reason. PLEASE NOTE: you will receive a confirmation 
 for your purchase through PayPal but NO PHYSICAL TICKETS will be issued. T
 hose who register will receive an email approximately one week before the 
 event with all info.\n\n&nbsp\;\n\nDirections: For a map: click here\n\n&n
 bsp\;\n\nAdditional Information: For more information about the Reformator
 y\, visit: Mansfield Reformatory\n\nSince Mansfield is a bit of a drive an
 d the Reformatory trip will end before noon\, plan to make a day of it in 
 the area and visit some of the other nearby attractions\, all a short driv
 e from the Reformatory.\nOptions include:\n\n 	For Lunch: Coney Island Din
 er (can't be beat for food and atmosphere)\n 	Richland Carrousel Park: Web
 site\n 	Kingwood Center Gardens: Website\n 	Malabar Farm State Park: Websi
 te\n\nAnd relax at the end of the day with a visit to: Cypress Hill Winery
 \n\n&nbsp\;\n\nField Trip Sponsor: Barb Cerrito for coordinating this trip
 !\n\n&nbsp\;\n\nAdditional Questions: Email: Field Trips\n\n&nbsp\;\n\nPLE
 ASE NOTE: As with all field trips\, CPS cannot be held responsible for any
  accidents or injuries - participate at your own risk.\n\n&nbsp\;\n\n&nbsp
 \;\n\n&nbsp\;
LOCATION:https://goo.gl/maps/VHkxG6quLeVZLehn8?coh=178573&entry=tt
END:VEVENT
BEGIN:VTIMEZONE
TZID:America/New_York
X-LIC-LOCATION:America/New_York
BEGIN:DAYLIGHT
DTSTART:20230312T030000
TZOFFSETFROM:-0500
TZOFFSETTO:-0400
TZNAME:EDT
END:DAYLIGHT
END:VTIMEZONE
END:VCALENDAR