BEGIN:VCALENDAR
VERSION:2.0
PRODID:-//wp-events-plugin.com//7.2.3.1//EN
TZID:America/New_York
X-WR-TIMEZONE:America/New_York
BEGIN:VEVENT
UID:873@clevelandphoto.org
DTSTART;TZID=America/New_York:20260108T110000
DTEND;TZID=America/New_York:20260108T130000
DTSTAMP:20251213T175637Z
URL:https://www.clevelandphoto.org/events/maltz-performing-arts-center-fie
 ld-trip/
SUMMARY:Maltz Performing Arts Center Field Trip
DESCRIPTION: Maltz Performing Arts Center Field Trip\n\nA visual feast ins
 ide and out.\n\n \n\nMaltz Performing Arts Center\n\nJanuary 8 2026\n\n11
 am-1pm\n\nhttps://case.edu/maltzcenter/\n\nDirections &amp\; Parking\n\nWe
 ’re located at 1855 Ansel Road in Cleveland. If you’re using Google Ma
 ps\, we recommend searching for “Maltz Performing Arts Center” instead
  of the physical address\, as this will put you at our precise location.\
 n\nYour investment:\n\nTo attend this field trip you  must register and 
  pay $20 donation to our host that day  who will be there to guide us.\n
 \nRegister here:\n\nhttps://www.clevelandphoto.org/programs/field-trips/ma
 ltz-performing-arts-center/ \n\nPlease arrive on time so I can check you 
 in. \n\n(this is a 501-3c so yes donations more than 20 are gladly accepte
 d )\n\nThere is no limit for attendance but you must register:\n\nhttps://
 www.clevelandphoto.org/programs/field-trips/maltz-performing-arts-center/\
 n\nQuestions or concerns? Call me or email me at fieldtrips@clevelandphoto
 .org\n\nKim Wasielewski\n\n440 570 5968\n\n
END:VEVENT
BEGIN:VTIMEZONE
TZID:America/New_York
X-LIC-LOCATION:America/New_York
BEGIN:STANDARD
DTSTART:20251102T010000
TZOFFSETFROM:-0400
TZOFFSETTO:-0500
TZNAME:EST
END:STANDARD
END:VTIMEZONE
END:VCALENDAR