BEGIN:VCALENDAR
VERSION:2.0
PRODID:-//wp-events-plugin.com//7.2.3.1//EN
TZID:America/New_York
X-WR-TIMEZONE:America/New_York
BEGIN:VEVENT
UID:273@clevelandphoto.org
DTSTART;TZID=America/New_York:20231215T193000
DTEND;TZID=America/New_York:20231215T210000
DTSTAMP:20231111T184223Z
URL:https://www.clevelandphoto.org/events/luca-sportelli-dancer-and-photog
 rapher-an-in-person-event/
SUMMARY:Luca Sportelli - Dancer and Photographer - LIVE EVENT
DESCRIPTION:December 15\, 2023\nLuca Sportelli - Dancer and Photographer\n\
 n\n\n\nAbout Luca\n\nMy life as a 27-year-old Italian photographer  based
  in Akron\, Ohio\, has been a rollercoaster of experiences. From leaving m
 y family in Italy to pursue my passion for dance\, to traveling the world\
 , falling in love with photography and finding a home in Ohio\, each momen
 t has shaped me into the person I am today. While life may be unpredictabl
 e\, one thing remains constant: my unwavering dedication to the arts and t
 he pursuit of my dreams.\n\nJoin Luca as he talks about his journey from D
 ancer to Photographer \n\nIt will be about my personal life experience fr
 om leaving a small town village in Italy to move to the USA and pursuing 
 my dream of becoming a professional ballet dancer to then changing career
  path and becoming a dance and portrait photographer based in Akron OH.\n
 \nwww.lucasportellicreations.com\n\n \n\n\n
END:VEVENT
BEGIN:VTIMEZONE
TZID:America/New_York
X-LIC-LOCATION:America/New_York
BEGIN:STANDARD
DTSTART:20231105T010000
TZOFFSETFROM:-0400
TZOFFSETTO:-0500
TZNAME:EST
END:STANDARD
END:VTIMEZONE
END:VCALENDAR