BEGIN:VCALENDAR
VERSION:2.0
PRODID:-//wp-events-plugin.com//7.2.3.1//EN
TZID:America/New_York
X-WR-TIMEZONE:America/New_York
BEGIN:VEVENT
UID:657@clevelandphoto.org
DTSTART;TZID=America/New_York:20250523T193000
DTEND;TZID=America/New_York:20250523T210000
DTSTAMP:20250426T155215Z
URL:https://www.clevelandphoto.org/events/lori-langford-photographer/
SUMMARY:Creative Close-Up Photography: Techniques and Editing for Standout 
 Images - Lori Lankford Photographer - This will be zoom club will be open
DESCRIPTION:\n\nCreative Close-Up Photography: Techniques and Editing for S
 tandout Images\n\nDescription:\nIn this webinar\, we'll explore creative t
 echniques that help you move beyond basic "macro" shots and start crafting
  images full of texture\, depth\, and visual impact.\n\nWe’ll cover:\n\n
 How to find unexpected subjects and build stronger compositions at small s
 cales.\nPractical gear advice — what matters\, what doesn’t\, and how 
 to get great results with what you already have.\nWorking with natural lig
 ht to get creative interesting images\nCreative editing tools to enhance d
 etail\, color\, and mood\n\nBio:\nMy passion for photography began as a wa
 y to capture my personal travel adventures. Over the years I have dived in
 to landscape and Marco photography. I have found my passion in close up an
 d abstract photography has been a welcome addition to my photographic jour
 ney. To escape so deeply into the details of a tiny object turns off the w
 orld for a few moments.\nI am proud to have my work exhibited in several g
 alleries across the U.S. and to teach local creative workshops.\nMy goal a
 s a photographer and in life is to continue learning and growing. I always
  try to capture the expected in unexpected ways and to embrace the light a
 nd the shadows.\n\nCourses and Workshops:\n\nMy workshops and courses help
  you discover new creative techniques to bring your images to life. My sig
 nature course\, A Year of Creative Photography\, held once a year\, offers
  12 months of creative education and a supportive learning community. I al
 so teach online courses in editing\, Lightpad photography\, and artistic f
 lower editing.\n\nPhotography Style\n\nWith a passion for nature and flowe
 rs\, much of my photography is shot from my personal English cutting garde
 n and in my potting shed. My goal with each image is to evoke emotion\, sh
 owcasing parts of nature that you don’t typically notice. I use creative
  shooting and post-processing techniques to bring my images to life.\n\nht
 tps://lorilankford.com/
END:VEVENT
BEGIN:VTIMEZONE
TZID:America/New_York
X-LIC-LOCATION:America/New_York
BEGIN:DAYLIGHT
DTSTART:20250309T030000
TZOFFSETFROM:-0500
TZOFFSETTO:-0400
TZNAME:EDT
END:DAYLIGHT
END:VTIMEZONE
END:VCALENDAR