BEGIN:VCALENDAR
VERSION:2.0
PRODID:-//wp-events-plugin.com//7.2.3.1//EN
TZID:America/New_York
X-WR-TIMEZONE:America/New_York
BEGIN:VEVENT
UID:37@clevelandphoto.org
DTSTART;TZID=America/New_York:20230414T193000
DTEND;TZID=America/New_York:20230414T193000
DTSTAMP:20230315T210400Z
URL:https://www.clevelandphoto.org/events/live-lecture-how-to-take-better-
 bird-pictures/
SUMMARY:LIVE LECTURE - How to Take Better Bird Pictures
DESCRIPTION:How to take better bird photos in the field.\n\nFinding birds t
 o photograph is hard in itself\, but taking photos of them is even harder.
  This talk outlines everything you can do to maximize the amount of bird p
 hotos you get\, and therefore take way better photos! From finding the bir
 ds with eBird\, to your settings and how to position yourself while taking
  photos\, this has it all!\n\nAlex Eisengart is a 15-year-old photographer
  based in NE Ohio.. He's  been taking photos since December of 2019. At f
 irst\, it was some casual photography. Since then\, it's exploded into a p
 assion. Check out his Instagram "Kid with a Sony."\n\n\n
END:VEVENT
BEGIN:VTIMEZONE
TZID:America/New_York
X-LIC-LOCATION:America/New_York
BEGIN:DAYLIGHT
DTSTART:20230312T030000
TZOFFSETFROM:-0500
TZOFFSETTO:-0400
TZNAME:EDT
END:DAYLIGHT
END:VTIMEZONE
END:VCALENDAR