BEGIN:VCALENDAR
VERSION:2.0
PRODID:-//wp-events-plugin.com//7.2.3.1//EN
TZID:America/New_York
X-WR-TIMEZONE:America/New_York
BEGIN:VEVENT
UID:908@clevelandphoto.org
DTSTART;TZID=America/New_York:20261026T193000
DTEND;TZID=America/New_York:20261026T220000
DTSTAMP:20260309T174329Z
URL:https://www.clevelandphoto.org/events/lightroom-classic-optional-7th-c
 lass-lightroom-mobile-2/
SUMMARY:Lightroom Classic - Optional 7th Class - Lightroom Mobile
DESCRIPTION:Optional Seventh class in the CPS Lightroom Classic course. Ton
 ight’s topic: Lightroom Mobile.\n\nAll materials copyright the Cleveland
  Photographic Society. Rebroadcast and copying prohibited without the expr
 ess written approval of CPS.\n\n&nbsp\;
END:VEVENT
BEGIN:VTIMEZONE
TZID:America/New_York
X-LIC-LOCATION:America/New_York
BEGIN:DAYLIGHT
DTSTART:20260308T030000
TZOFFSETFROM:-0500
TZOFFSETTO:-0400
TZNAME:EDT
END:DAYLIGHT
END:VTIMEZONE
END:VCALENDAR