BEGIN:VCALENDAR
VERSION:2.0
PRODID:-//wp-events-plugin.com//7.2.3.1//EN
TZID:America/New_York
X-WR-TIMEZONE:America/New_York
BEGIN:VEVENT
UID:790@clevelandphoto.org
DTSTART;TZID=America/New_York:20251020T193000
DTEND;TZID=America/New_York:20251020T220000
DTSTAMP:20251013T194323Z
URL:https://www.clevelandphoto.org/events/lightroom-classic-class-7-option
 al-lightroom-mobile/
SUMMARY:Lightroom Classic - Class 7 - (Optional) - Lightroom Mobile
DESCRIPTION:Sixth class in the CPS Lightroom Classic course. Tonight's topi
 c: Lightroom Mobile - students enrolled in the current iPhone Photography 
 class are welcome.\n\nAll materials copyright the Cleveland Photographic S
 ociety. Rebroadcast and copying prohibited without the express written app
 roval of CPS.
END:VEVENT
BEGIN:VTIMEZONE
TZID:America/New_York
X-LIC-LOCATION:America/New_York
BEGIN:DAYLIGHT
DTSTART:20250309T030000
TZOFFSETFROM:-0500
TZOFFSETTO:-0400
TZNAME:EDT
END:DAYLIGHT
END:VTIMEZONE
END:VCALENDAR