BEGIN:VCALENDAR
VERSION:2.0
PRODID:-//wp-events-plugin.com//7.2.3.1//EN
TZID:America/New_York
X-WR-TIMEZONE:America/New_York
BEGIN:VEVENT
UID:216@clevelandphoto.org
DTSTART;TZID=America/New_York:20240422T191500
DTEND;TZID=America/New_York:20240422T220000
DTSTAMP:20230824T230604Z
URL:https://www.clevelandphoto.org/events/lightroom-classic-class-6-review
 -and-wrap-up/
SUMMARY:Lightroom Classic - Class 6 - Review and Wrap-up
DESCRIPTION:Sixth class in the CPS Lightroom Classic course. Tonight's topi
 c: Review and Wrap-up\n\nAll materials copyright the Cleveland Photographi
 c Society 2020. Rebroadcast and copying prohibited without the express wri
 tten approval of CPS.
END:VEVENT
BEGIN:VTIMEZONE
TZID:America/New_York
X-LIC-LOCATION:America/New_York
BEGIN:DAYLIGHT
DTSTART:20240310T030000
TZOFFSETFROM:-0500
TZOFFSETTO:-0400
TZNAME:EDT
END:DAYLIGHT
END:VTIMEZONE
END:VCALENDAR