BEGIN:VCALENDAR
VERSION:2.0
PRODID:-//wp-events-plugin.com//7.2.3.1//EN
TZID:America/New_York
X-WR-TIMEZONE:America/New_York
BEGIN:VEVENT
UID:505@clevelandphoto.org
DTSTART;TZID=America/New_York:20250310T193000
DTEND;TZID=America/New_York:20250310T220000
DTSTAMP:20241211T194852Z
URL:https://www.clevelandphoto.org/events/lightroom-classic-class-6-review
 -and-wrap-up-3/
SUMMARY:Lightroom Classic - Class 6 - Lightroom Mobile and Course Review
DESCRIPTION:Sixth class in the CPS Lightroom Classic course. Tonight's topi
 c: Lightroom Mobile and Course Review\n\nAll materials copyright the Cleve
 land Photographic Society. Rebroadcast and copying prohibited without the 
 express written approval of CPS.
END:VEVENT
BEGIN:VTIMEZONE
TZID:America/New_York
X-LIC-LOCATION:America/New_York
BEGIN:DAYLIGHT
DTSTART:20250309T030000
TZOFFSETFROM:-0500
TZOFFSETTO:-0400
TZNAME:EDT
END:DAYLIGHT
END:VTIMEZONE
END:VCALENDAR