BEGIN:VCALENDAR
VERSION:2.0
PRODID:-//wp-events-plugin.com//7.2.3.1//EN
TZID:America/New_York
X-WR-TIMEZONE:America/New_York
BEGIN:VEVENT
UID:510@clevelandphoto.org
DTSTART;TZID=America/New_York:20251006T193000
DTEND;TZID=America/New_York:20251006T220000
DTSTAMP:20241211T195438Z
URL:https://www.clevelandphoto.org/events/lightroom-classic-class-5-export
 -share-print-5/
SUMMARY:Lightroom Classic - Class 5 - Export\, Share\, Print
DESCRIPTION:Fifth class in the CPS Lightroom Classic course. Tonight's topi
 c: Sharing Images\n\nAll materials copyright the Cleveland Photographic So
 ciety. Rebroadcast and copying prohibited without the express written appr
 oval of CPS.
END:VEVENT
BEGIN:VTIMEZONE
TZID:America/New_York
X-LIC-LOCATION:America/New_York
BEGIN:DAYLIGHT
DTSTART:20250309T030000
TZOFFSETFROM:-0500
TZOFFSETTO:-0400
TZNAME:EDT
END:DAYLIGHT
END:VTIMEZONE
END:VCALENDAR