BEGIN:VCALENDAR
VERSION:2.0
PRODID:-//wp-events-plugin.com//7.2.3.1//EN
TZID:America/New_York
X-WR-TIMEZONE:America/New_York
BEGIN:VEVENT
UID:504@clevelandphoto.org
DTSTART;TZID=America/New_York:20250303T193000
DTEND;TZID=America/New_York:20250303T220000
DTSTAMP:20240928T224856Z
URL:https://www.clevelandphoto.org/events/lightroom-classic-class-5-export
 -share-print-4/
SUMMARY:Lightroom Classic - Class 5 - Export\, Share\, Print
DESCRIPTION:Fifth class in the CPS Lightroom Classic course. Tonight's topi
 c: Sharing Images\n\nAll materials copyright the Cleveland Photographic So
 ciety. Rebroadcast and copying prohibited without the express written appr
 oval of CPS.
END:VEVENT
BEGIN:VTIMEZONE
TZID:America/New_York
X-LIC-LOCATION:America/New_York
BEGIN:STANDARD
DTSTART:20241103T010000
TZOFFSETFROM:-0400
TZOFFSETTO:-0500
TZNAME:EST
END:STANDARD
END:VTIMEZONE
END:VCALENDAR