BEGIN:VCALENDAR
VERSION:2.0
PRODID:-//wp-events-plugin.com//7.2.3.1//EN
TZID:America/New_York
X-WR-TIMEZONE:America/New_York
BEGIN:VEVENT
UID:214@clevelandphoto.org
DTSTART;TZID=America/New_York:20240408T191500
DTEND;TZID=America/New_York:20240408T220000
DTSTAMP:20230824T230527Z
URL:https://www.clevelandphoto.org/events/lightroom-classic-class-4-develo
 p-module-local-edits-2/
SUMMARY:Lightroom Classic - Class 4 - Develop Module - Local Edits
DESCRIPTION:Fourth class in the CPS Lightroom Classic course. Tonight's top
 ic: Develop Module - Local Edits\n\nAll materials copyright the Cleveland 
 Photographic Society 2020. Rebroadcast and copying prohibited without the 
 express written approval of CPS.
END:VEVENT
BEGIN:VTIMEZONE
TZID:America/New_York
X-LIC-LOCATION:America/New_York
BEGIN:DAYLIGHT
DTSTART:20240310T030000
TZOFFSETFROM:-0500
TZOFFSETTO:-0400
TZNAME:EDT
END:DAYLIGHT
END:VTIMEZONE
END:VCALENDAR