BEGIN:VCALENDAR
VERSION:2.0
PRODID:-//wp-events-plugin.com//7.2.3.1//EN
TZID:America/New_York
X-WR-TIMEZONE:America/New_York
BEGIN:VEVENT
UID:800@clevelandphoto.org
DTSTART;TZID=America/New_York:20260928T193000
DTEND;TZID=America/New_York:20260928T220000
DTSTAMP:20260113T230340Z
URL:https://www.clevelandphoto.org/events/lightroom-classic-class-3-develo
 p-module-global-edits-7/
SUMMARY:Lightroom Classic - Class 3 - Develop Module - Global Edits
DESCRIPTION:Third class in the CPS Lightroom Classic course. Tonight's topi
 c: Develop Module - Global Edits\n\nAll materials copyright the Cleveland 
 Photographic Society. Rebroadcast and copying prohibited without the expre
 ss written approval of CPS.
END:VEVENT
BEGIN:VTIMEZONE
TZID:America/New_York
X-LIC-LOCATION:America/New_York
BEGIN:DAYLIGHT
DTSTART:20260308T030000
TZOFFSETFROM:-0500
TZOFFSETTO:-0400
TZNAME:EDT
END:DAYLIGHT
END:VTIMEZONE
END:VCALENDAR