BEGIN:VCALENDAR
VERSION:2.0
PRODID:-//wp-events-plugin.com//7.2.3.1//EN
TZID:America/New_York
X-WR-TIMEZONE:America/New_York
BEGIN:VEVENT
UID:213@clevelandphoto.org
DTSTART;TZID=America/New_York:20240401T191500
DTEND;TZID=America/New_York:20240401T220000
DTSTAMP:20230824T230512Z
URL:https://www.clevelandphoto.org/events/lightroom-classic-class-3-develo
 p-module-global-edits-2/
SUMMARY:Lightroom Classic - Class 3 - Develop Module - Global Edits
DESCRIPTION:Third class in the CPS Lightroom Classic course. Tonight's topi
 c: Develop Module - Global Edits\n\nAll materials copyright the Cleveland 
 Photographic Society 2020. Rebroadcast and copying prohibited without the 
 express written approval of CPS.
END:VEVENT
BEGIN:VTIMEZONE
TZID:America/New_York
X-LIC-LOCATION:America/New_York
BEGIN:DAYLIGHT
DTSTART:20240310T030000
TZOFFSETFROM:-0500
TZOFFSETTO:-0400
TZNAME:EDT
END:DAYLIGHT
END:VTIMEZONE
END:VCALENDAR