BEGIN:VCALENDAR
VERSION:2.0
PRODID:-//wp-events-plugin.com//7.2.3.1//EN
TZID:America/New_York
X-WR-TIMEZONE:America/New_York
BEGIN:VEVENT
UID:150@clevelandphoto.org
DTSTART;TZID=America/New_York:20230918T191500
DTEND;TZID=America/New_York:20230918T220000
DTSTAMP:20230709T180619Z
URL:https://www.clevelandphoto.org/events/lightroom-classic-class-2-librar
 y-module/
SUMMARY:Lightroom Classic - Class 2 - Library Module
DESCRIPTION:Second class in the CPS Lightroom Classic course. Tonight's top
 ic: Library Module\n\nAll materials copyright the Cleveland Photographic S
 ociety 2020. Rebroadcast and copying prohibited without the express writte
 n approval of CPS.
END:VEVENT
BEGIN:VTIMEZONE
TZID:America/New_York
X-LIC-LOCATION:America/New_York
BEGIN:DAYLIGHT
DTSTART:20230312T030000
TZOFFSETFROM:-0500
TZOFFSETTO:-0400
TZNAME:EDT
END:DAYLIGHT
END:VTIMEZONE
END:VCALENDAR