BEGIN:VCALENDAR
VERSION:2.0
PRODID:-//wp-events-plugin.com//7.2.3.1//EN
TZID:America/New_York
X-WR-TIMEZONE:America/New_York
BEGIN:VEVENT
UID:792@clevelandphoto.org
DTSTART;TZID=America/New_York:20260202T193000
DTEND;TZID=America/New_York:20260202T220000
DTSTAMP:20251022T010552Z
URL:https://www.clevelandphoto.org/events/lightroom-classic-class-1-catalo
 g-and-import-6/
SUMMARY:Lightroom Classic - Class 1 - Catalog and Import
DESCRIPTION:First class in the CPS Lightroom Classic course. Topics include
  Course Overview\, Catalogs and Importing.\n\nAll materials copyright the 
 Cleveland Photographic Society. Rebroadcast and copying prohibited without
  the express written approval of CPS.
END:VEVENT
BEGIN:VTIMEZONE
TZID:America/New_York
X-LIC-LOCATION:America/New_York
BEGIN:STANDARD
DTSTART:20251102T010000
TZOFFSETFROM:-0400
TZOFFSETTO:-0500
TZNAME:EST
END:STANDARD
END:VTIMEZONE
END:VCALENDAR