BEGIN:VCALENDAR
VERSION:2.0
PRODID:-//wp-events-plugin.com//7.2.3.1//EN
TZID:America/New_York
X-WR-TIMEZONE:America/New_York
BEGIN:VEVENT
UID:159@clevelandphoto.org
DTSTART;TZID=America/New_York:20231020T193000
DTEND;TZID=America/New_York:20231020T210000
DTSTAMP:20230929T122748Z
URL:https://www.clevelandphoto.org/events/light-painting-a-hands-on-experi
 ence/
SUMMARY:Light Painting - Hands on Experience and Workshop - LIVE LECTURE
DESCRIPTION: Light Painting session with an Educator from Canon.\n\n\n\nJe
 ff Leimbach the Canon Specialist and Educator will be running this amazing
  workshop. He will bring everything attendees need to have a great experie
 nce. Please bring your camera and a clean SD card.\n\nCreative Still-Life 
 Photography (Light Painting): Expand your creativity and photography skil
 ls in this 2 hour hands-on workshop. Learn light painting skills as you li
 ght and expose your own images from 3 pre-composed still-life sets. The o
 nly thing you need to bring is a clean SD memory card and your imagination
 .\n\n\n
END:VEVENT
BEGIN:VTIMEZONE
TZID:America/New_York
X-LIC-LOCATION:America/New_York
BEGIN:DAYLIGHT
DTSTART:20230312T030000
TZOFFSETFROM:-0500
TZOFFSETTO:-0400
TZNAME:EDT
END:DAYLIGHT
END:VTIMEZONE
END:VCALENDAR