BEGIN:VCALENDAR
VERSION:2.0
PRODID:-//wp-events-plugin.com//7.2.3.1//EN
TZID:America/New_York
X-WR-TIMEZONE:America/New_York
BEGIN:VEVENT
UID:9@clevelandphoto.org
DTSTART:20230122T071500Z
DTEND:20230122T103000Z
DTSTAMP:20250629T135707Z
URL:https://www.clevelandphoto.org/events/lewis-kemper-zoom-talk-and-image
 -critique/
SUMMARY:Lewis Kemper Zoom Talk and Image Critique
DESCRIPTION:Canon’s Explorers of Light Emeritus and Tamron Ambassador Lew
 is Kemper. Lewis has been photographing the natural beauty of North Americ
 a and our world for over 40 years. His travels taken him to 47 states from
  Alaska to Florida\, and to over 10 countries including\, China\, Tibet\, 
 India\, and Iceland. He received a BA in Fine Art Photography from the Geo
 rge Washington University and from 1978 until 1980\, he worked at The Anse
 l Adams Gallery where he had the opportunity to meet\, observe and learn f
 rom some of the greatest photographers of our time. Lewis’s photographs 
 are in many private and permanent collections around the world as well as 
 in galleries and museums across North America. He has also written several
  books and teaches photography for many organizations. Lewis has graciousl
 y agreed to join us for a zoom presentation and image critique on January 
 11th\, 2023 at 7:00 PM EST. The Zoom call is open to anyone that would lik
 e to watch. This is not a CPS event and the clubhouse will not be open. To
  join the Zoom presentation click here
END:VEVENT
END:VCALENDAR