BEGIN:VCALENDAR
VERSION:2.0
PRODID:-//wp-events-plugin.com//7.2.3.1//EN
TZID:America/New_York
X-WR-TIMEZONE:America/New_York
BEGIN:VEVENT
UID:651@clevelandphoto.org
DTSTART;TZID=America/New_York:20250810T000000
DTEND;TZID=America/New_York:20250810T000000
DTSTAMP:20250322T111744Z
URL:https://www.clevelandphoto.org/events/last-day-to-view-black-and-white
 -exhibit-at-heights-arts/
SUMMARY:Last Day to View "Black and White" Exhibit at Heights Arts
DESCRIPTION:Heights Arts | 2175 Lee Rd | Cleveland Heights
END:VEVENT
BEGIN:VTIMEZONE
TZID:America/New_York
X-LIC-LOCATION:America/New_York
BEGIN:DAYLIGHT
DTSTART:20250309T030000
TZOFFSETFROM:-0500
TZOFFSETTO:-0400
TZNAME:EDT
END:DAYLIGHT
END:VTIMEZONE
END:VCALENDAR