BEGIN:VCALENDAR
VERSION:2.0
PRODID:-//wp-events-plugin.com//7.2.3.1//EN
TZID:America/New_York
X-WR-TIMEZONE:America/New_York
BEGIN:VEVENT
UID:647@clevelandphoto.org
DTSTART;TZID=America/New_York:20250411T200000
DTEND;TZID=America/New_York:20250411T200000
DTSTAMP:20250322T105706Z
URL:https://www.clevelandphoto.org/events/last-day-for-exhibits-call-for-e
 ntries/
SUMMARY:Last day for exhibits Call for Entries!
DESCRIPTION:Submit up to 2 images for Porter and Heights Arts!  Deadline i
 s today!  See exhibits page for more details.
END:VEVENT
BEGIN:VTIMEZONE
TZID:America/New_York
X-LIC-LOCATION:America/New_York
BEGIN:DAYLIGHT
DTSTART:20250309T030000
TZOFFSETFROM:-0500
TZOFFSETTO:-0400
TZNAME:EDT
END:DAYLIGHT
END:VTIMEZONE
END:VCALENDAR