BEGIN:VCALENDAR
VERSION:2.0
PRODID:-//wp-events-plugin.com//7.2.3.1//EN
TZID:America/New_York
X-WR-TIMEZONE:America/New_York
BEGIN:VEVENT
UID:541@clevelandphoto.org
DTSTART;TZID=America/New_York:20250328T193000
DTEND;TZID=America/New_York:20250328T210000
DTSTAMP:20250217T193946Z
URL:https://www.clevelandphoto.org/events/kolman-rosenberg/
SUMMARY:“Sports Photography and Its Photographers” - Kolman Rosenberg -
  In person - Club will be open
DESCRIPTION:\nKolman Rosenberg\nThe presentation will discuss some of the c
 haracteristics of good sports and action photography including camera tech
 nique\, composition and impact. A number of professional sports and action
  photographers will be presented also with background information about th
 em and examples of their work.\n\nBiographical Statement\n\nKolman Rosenbe
 rg is a freelance editorial\, documentary and ne art photographer who r
 esides and works in Mentor\, OH. He has exhibited and won many awards for 
 his photography and has had his work published in a number of books\, maga
 zines and on TV. The TV work\, for ESPN\, was included in an Emmy Award no
 mination. Kolman teaches photography classes at Cuyahoga Community College
  and the Cleveland Photographic Society where he previously served as the 
 Director of their Fundamentals of Good Photography School.\n\nSome of Kolm
 an’s images can be seen on Instagram at\; kolman_rosenberg_photogrphy.\n
 \nHe also publishes a regular blog at\, www.photographyunposed.wordpress.c
 om
END:VEVENT
BEGIN:VTIMEZONE
TZID:America/New_York
X-LIC-LOCATION:America/New_York
BEGIN:DAYLIGHT
DTSTART:20250309T030000
TZOFFSETFROM:-0500
TZOFFSETTO:-0400
TZNAME:EDT
END:DAYLIGHT
END:VTIMEZONE
END:VCALENDAR