BEGIN:VCALENDAR
VERSION:2.0
PRODID:-//wp-events-plugin.com//7.2.3.1//EN
TZID:America/New_York
X-WR-TIMEZONE:America/New_York
BEGIN:VEVENT
UID:892@clevelandphoto.org
DTSTART;TZID=America/New_York:20260717T193000
DTEND;TZID=America/New_York:20260717T210000
DTSTAMP:20260315T225646Z
URL:https://www.clevelandphoto.org/events/katherine-dickson-photographer/
SUMMARY:Katherine Dickson Photographer
DESCRIPTION:\n\n\n\n&nbsp\;\nCleveland Photographic Society scheduled for
  July 17\, 2026 7:30PM-9PM EST\n \nPresentation Title:\nThe Art of Seein
 g Differently - A Creative Reset for the Eyes and Soul\nPresentation Descr
 iption:\nA 90-minute interactive workshop with Katherine Dickson\nPhotogra
 phy is often taught as a technical skill : aperture\, shutter speed\, comp
 osition rules…\nBut the real art of photography begins before the camer
 a is even raised.\nIt begins with how we see.\nIn this immersive workshop
 \, conceptual photographer Katherine Dickson guides participants through
  a creative reset designed to reconnect artists with curiosity\, observati
 on\, and emotional storytelling.\nThrough guided exercises\, visual prompt
 s\, and reflective discussion\, participants will explore:\n\n\n 	How to m
 ove fromlookingto truly seeing\n• How perception shapes storytelling in
  photography\n• How small shifts in attention can unlock new creative pa
 thways\n• How mindfulness can deepen visual awareness\n\nParticipants wi
 ll leave with a renewed sense of creative vision and a set of exercises th
 ey can use anytime their inspiration begins to fade.\nThis workshop is ope
 n to photographers of all levels  and to anyone curious about rediscoveri
 ng the quiet magic of observation.\nKatherine Dickson Biography\nShort For
 m:\nKatherine Dickson is a multidisciplinary conceptual artist who brings 
 a lived understanding of resilience\, nuance\, and vulnerability into ever
 y piece.\nShe trained in film and visual storytelling at Quinnipiac Univer
 sity’s and Lights Film School. Later\, she founded Guapa Films\, a creat
 ive studio where award-winning collaborations with writers\, directors\, a
 nd fellow creatives have been nurtured. That background in film deeply inf
 orms her work as an artist\, photographer and producer\; every image begin
 s as a narrative\, a mood\, or a question.\nThis perspective has been reco
 gnized with First Place accolades at the International Photographic Compet
 ition\, Fine Arts and IMAGES Awards\, plus Honorable Mentions at the IPA D
 eeper Perspective Awards.\nKatherine’s work has been exhibited at spaces
  such as the Florida Museum of Photographic Arts and various galleries thr
 oughout the east coast\; where she hopes each photograph invites viewers t
 o look closer\, feel deeper\, and reconsider what they think they know abo
 ut themselves and others.\nKatherine Dickson Website\nwww.katherinedickson
 .com
END:VEVENT
BEGIN:VTIMEZONE
TZID:America/New_York
X-LIC-LOCATION:America/New_York
BEGIN:DAYLIGHT
DTSTART:20260308T030000
TZOFFSETFROM:-0500
TZOFFSETTO:-0400
TZNAME:EDT
END:DAYLIGHT
END:VTIMEZONE
END:VCALENDAR