BEGIN:VCALENDAR
VERSION:2.0
PRODID:-//wp-events-plugin.com//7.2.3.1//EN
TZID:America/New_York
X-WR-TIMEZONE:America/New_York
BEGIN:VEVENT
UID:391@clevelandphoto.org
DTSTART;TZID=America/New_York:20241025T193000
DTEND;TZID=America/New_York:20241025T210000
DTSTAMP:20240917T233314Z
URL:https://www.clevelandphoto.org/events/justin-soroka/
SUMMARY:Special Agent Justin Soroka - In Person Event (Full house is expect
 ed\, so come early to get a seat)THIS PRESENTATION CANNOT BE SEEN ON ZOOM/
 YOUTUBE
DESCRIPTION:Bio:\nJustin Soroka has been in Law Enforcement for the past 24
  years.  In 2014\, Justin was hired as a Special Agent with the Ohio Bure
 au of Criminal Investigation and assigned to the Crime Scene Unit\, where 
 he provided crime scene assistance to local Law Enforcement Agencies throu
 ghout the State of Ohio.  Throughout his career\, Justin has attended num
 erous advanced training courses.  Through some of those courses\, he has 
 obtained a Master Criminal Investigator Certificate and a Master Evidence 
 Technician Certificate through the Ohio Peace Officer Training Academy.  
 He is also a graduate of the National Forensic Academy\, which is hosted b
 y the University of Tennessee.  Justin holds a certification as a Certifi
 ed Crime Scene Investigator through the International Association for Iden
 tification.  Justin left the Crime Scene Unit in 2022 and is currently as
 signed to the Technical Operations Unit.\nTopics:\nIntroduction to the Ohi
 o Bureau of Criminal Investigation\nPrinciples of forensic/crime scene pho
 tography and how it is the same and different from traditional photography
 .\nUnique subject matter photographs\, such as trace evidence\, comparison
  quality photographs and alternate light source photographs.\nLink to Ohio
  Attorney General Bureau of Criminal Investigation Website:\nhttps://www.o
 hioattorneygeneral.gov/law-enforcement/bureau-of-criminal-investigation\nT
 itle:\nSpecial Agent\nGiving thanks to Joe Vanecek for this special guest.
END:VEVENT
BEGIN:VTIMEZONE
TZID:America/New_York
X-LIC-LOCATION:America/New_York
BEGIN:DAYLIGHT
DTSTART:20240310T030000
TZOFFSETFROM:-0500
TZOFFSETTO:-0400
TZNAME:EDT
END:DAYLIGHT
END:VTIMEZONE
END:VCALENDAR