BEGIN:VCALENDAR
VERSION:2.0
PRODID:-//wp-events-plugin.com//7.2.3.1//EN
TZID:America/New_York
X-WR-TIMEZONE:America/New_York
BEGIN:VEVENT
UID:598@clevelandphoto.org
DTSTART;TZID=America/New_York:20250620T193000
DTEND;TZID=America/New_York:20250620T213000
DTSTAMP:20250620T191422Z
URL:https://www.clevelandphoto.org/events/justin-key-photographer/
SUMMARY:The Photographer's Eye: Honing the Creative Vision That Drives Us  
 - Justin Key Photographer This is a Zoom presentation. The club will be op
 en.
DESCRIPTION:\n\nBio - Justin bought his first camera at the age of 12 and h
 as been shooting ever since. His focus is on the natural world and capturi
 ng the character of Earth. Focusing on textures his work aims to expose th
 e elegance in the overlooked details of the landscape while preserving the
  peace that he experiences in nature. Born and raised in Wisconsin\, Justi
 n spent a decade in Colorado finding and developing his eye before returni
 ng home. He has participated in gallery exhibitions around Denver and has 
 been touring the country on the art festival circuit since 2018. He has th
 ree completed bodies of work along with an ever expanding portfolio from h
 is travels and is currently working on his first book.\n\n- Title - The Ph
 otographer's Eye: Honing the Creative Vision That Dives Us\n\n- Talk descr
 iption - What compels us to take pictures? Every snap of the shutter origi
 nates with an impulse\, an internal urge to preserve a moment in time. But
  where does this voice come from and what effect does it have on our work?
 \n\nThe photographer’s eye is the inherent voice within each of us that 
 commands the camera. It’s the reason we shoot what we shoot. It’s the 
 reason we compose how we compose. It’s the reason we expose how we expos
 e. The better we understand this engine that drives our work the more attu
 ned to our creative process we become.\n\nOnce you identify it\, this crea
 tive muscle we all possess can be strengthened like any other muscle. With
  experience and conditioning we can learn to interpret its voice\, improve
  our ability to capture its vision\, and expose the purpose that fuels our
  passion to take pictures. Join me as we seek to reveal the soul of your p
 hotography.\n\n- Website - https://www.justinkeyphotography.com\n\nCheers!
 \n\nJustin\n\nwww.justinkeyphotography.com\njustinkeyphotography@gmail.com
 \n920-680-9834\n\nFollow Me:\nInstagram Facebook Newsletter
END:VEVENT
BEGIN:VTIMEZONE
TZID:America/New_York
X-LIC-LOCATION:America/New_York
BEGIN:DAYLIGHT
DTSTART:20250309T030000
TZOFFSETFROM:-0500
TZOFFSETTO:-0400
TZNAME:EDT
END:DAYLIGHT
END:VTIMEZONE
END:VCALENDAR