BEGIN:VCALENDAR
VERSION:2.0
PRODID:-//wp-events-plugin.com//7.2.3.1//EN
TZID:America/New_York
X-WR-TIMEZONE:America/New_York
BEGIN:VEVENT
UID:785@clevelandphoto.org
DTSTART;TZID=America/New_York:20260522T193000
DTEND;TZID=America/New_York:20260522T210000
DTSTAMP:20260309T193052Z
URL:https://www.clevelandphoto.org/events/julian-elliott-photography/
SUMMARY:Julian Elliott Photography This is a Zoom Presentation. The club wi
 ll be open.
DESCRIPTION:\nTitle: Nomadic travels of 2025: from Europe to Asia\nDescript
 ion: \nJoin full-time professional travel photographer Julian Elliott as 
 he takes you on a journey through his best images from 2025. Hear the stor
 ies behind how he captured a variety of images from travel portraiture to 
 architecture and landscapes from a variety of places such as Nepal\, Scotl
 and\, Italy and beyond.\nBio:\nJulian Elliott has been a professional land
 scape and travel photographer for over 10 years. Having started writing fo
 r a number of British photography magazines\, he started selling his work 
 through the world-renowned Getty Images. To date\, his work has sold in ov
 er 40 countries\, and he has travelled in over 40 countries\, capturing th
 e world around him.\n\nWebsite: www.julianelliottphotography.com\n\n&nbsp\
 ;\n\n\nJulian ElliottJulian Elliott PhotographyTel: +44 7749 356942https:/
 /www.julianelliottphotography.com\n\n
END:VEVENT
BEGIN:VTIMEZONE
TZID:America/New_York
X-LIC-LOCATION:America/New_York
BEGIN:DAYLIGHT
DTSTART:20260308T030000
TZOFFSETFROM:-0500
TZOFFSETTO:-0400
TZNAME:EDT
END:DAYLIGHT
END:VTIMEZONE
END:VCALENDAR