BEGIN:VCALENDAR
VERSION:2.0
PRODID:-//wp-events-plugin.com//7.2.3.1//EN
TZID:America/New_York
X-WR-TIMEZONE:America/New_York
BEGIN:VEVENT
UID:604@clevelandphoto.org
DTSTART;TZID=America/New_York:20250912T193000
DTEND;TZID=America/New_York:20250912T210000
DTSTAMP:20250224T214856Z
URL:https://www.clevelandphoto.org/events/john-scalera-photographer/
SUMMARY:Bird Feeder Photography - John Scalera Photographer - Zoom Presenta
 tion - Club will be open
DESCRIPTION:\n\nBio:\n\nJohn Scalera excels at photography because he truly
  finds joy in photographing and interacting with his subject matter. He is
  an award-winning photographer and highly effective teacher who hails from
  the hills of northern New Jersey. Since 2012\, John has shared his love o
 f photography with his students at Hackettstown High School and has design
 ed the current curriculum for the digital imaging and digital photography 
 courses he teaches there. John has also spent a significant amount of time
  offering online workshops\, lectures\, and hands-on field trips for a var
 iety of camera clubs. He is a certified Adobe Photoshop Professional and c
 urrently is adding to his Masters Degree by taking post graduate-level pho
 tography classes at the Academy of Art University in San Francisco.\n\nTal
 k Description\n\nThis bird photography lecture will give an in depth overv
 iew of the equipment guide\, camera and lens settings\, shooting modes\, f
 ocusing modes\, sharpness and resolution\, perspective\, composition\, loc
 ations and tips that are utilized to capture intimate portraits of these b
 eautiful and exotic creatures. Each image will be analyzed and dissected t
 o show how it was created. Post processing techniques will also be examine
 d in this engaging presentation.\n\nWebsite:\nhttps://www.johnscalera.com/
END:VEVENT
BEGIN:VTIMEZONE
TZID:America/New_York
X-LIC-LOCATION:America/New_York
BEGIN:DAYLIGHT
DTSTART:20250309T030000
TZOFFSETFROM:-0500
TZOFFSETTO:-0400
TZNAME:EDT
END:DAYLIGHT
END:VTIMEZONE
END:VCALENDAR