BEGIN:VCALENDAR
VERSION:2.0
PRODID:-//wp-events-plugin.com//7.2.3.1//EN
TZID:America/New_York
X-WR-TIMEZONE:America/New_York
BEGIN:VEVENT
UID:315@clevelandphoto.org
DTSTART;TZID=America/New_York:20240510T193000
DTEND;TZID=America/New_York:20240510T210000
DTSTAMP:20240507T122751Z
URL:https://www.clevelandphoto.org/events/john-scalera-phone-photography/
SUMMARY:John Scalera Bird Photography Zoom presentation clubhouse will be o
 pen
DESCRIPTION:\nThis bird photography lecture will give an in depth overview 
 of the equipment guide\, camera and lens settings\, shooting modes\, focus
 ing modes\, sharpness and resolution\, perspective\, composition\, locatio
 ns and tips that are utilized to capture intimate portraits of these beaut
 iful and exotic creatures. Each image will be analyzed and dissected to sh
 ow how it was created. Post processing techniques will also be examined in
  this engaging presentation.\n  \n\n\n \nJohn Scalera excels at photogr
 aphy because he truly finds joy in photographing and interacting with his 
 subject matter. He is an award-winning photographer and highly effective
  teacher who hails from the hills of northern New Jersey. Since 2012\, Joh
 n has shared his love of photography with his students at Hackettstown Hig
 h School and has designed the current curriculum for the digital imaging a
 nd digital photography courses he teaches there. John has also spent a sig
 nificant amount of time offering online workshops\, lectures\, and hands-o
 n field trips for a variety of camera clubs. He is a certified Adobe Photo
 shop Professional and currently is adding to his Masters Degree by taking 
 post graduate-level photography classes at the Academy of Art University i
 n San Francisco.\n \n\n\n \n\nhttps://www.johnscalera.com/\n\n
END:VEVENT
BEGIN:VTIMEZONE
TZID:America/New_York
X-LIC-LOCATION:America/New_York
BEGIN:DAYLIGHT
DTSTART:20240310T030000
TZOFFSETFROM:-0500
TZOFFSETTO:-0400
TZNAME:EDT
END:DAYLIGHT
END:VTIMEZONE
END:VCALENDAR