BEGIN:VCALENDAR
VERSION:2.0
PRODID:-//wp-events-plugin.com//7.2.3.1//EN
TZID:America/New_York
X-WR-TIMEZONE:America/New_York
BEGIN:VEVENT
UID:737@clevelandphoto.org
DTSTART;TZID=America/New_York:20260605T193000
DTEND;TZID=America/New_York:20260605T210000
DTSTAMP:20260102T204434Z
URL:https://www.clevelandphoto.org/events/joel-robinson-photographer/
SUMMARY:Joel Robinson Photographer -"Become A Creative Superhero" - Zoom -
  Club will be open
DESCRIPTION:\nThe title of my presentation is "Become A Creative Superhero"
  Description: In this presentaiton you will learn how to nuture and expan
 d your creative vision. Joel will walk through how he stays creative and h
 ow you can apply tools\, practices\, and routines to help boost your own c
 reative voice. This presentation will help you build your authentic creati
 ve vision and give you insight on how to create your own captivating and p
 ersonal work.Website: www.joelrobison.comInstagram: www.instagram.com/joel
 robisonFacebook www.facebook.com/joelrobisonphotography\nJoel Robison is a
  Canadian creative conceptual photographer currently based in the UK. His\
 nwork is a blend of whimsy and surrealism mixed into honest storytelling\,
  often using\nself-portraits that allow the viewer to follow the creative 
 narrative in his images with him as the\nmain character. He has spent the 
 last decade developing his creative style and his work has\nbeen featured 
 in publications and galleries worldwide. He is a strong supporter of commu
 nity\,\nespecially within the creative world\, and teaches workshops and c
 lasses that focus on\ndeveloping the creative identity and exploring the c
 reative narrative inside us all.\nInstagram -@joelrobison\nFacebook facebo
 ok.com/joelrobisonphotography\nFlickr - https://www.flickr.com/photos/joel
 \n\nWebsite - www.joelrobison.com
END:VEVENT
BEGIN:VTIMEZONE
TZID:America/New_York
X-LIC-LOCATION:America/New_York
BEGIN:DAYLIGHT
DTSTART:20260308T030000
TZOFFSETFROM:-0500
TZOFFSETTO:-0400
TZNAME:EDT
END:DAYLIGHT
END:VTIMEZONE
END:VCALENDAR