BEGIN:VCALENDAR
VERSION:2.0
PRODID:-//wp-events-plugin.com//7.2.3.1//EN
TZID:America/New_York
X-WR-TIMEZONE:America/New_York
BEGIN:VEVENT
UID:597@clevelandphoto.org
DTSTART;TZID=America/New_York:20250530T193000
DTEND;TZID=America/New_York:20250530T213000
DTSTAMP:20250502T214118Z
URL:https://www.clevelandphoto.org/events/jim-koepnick-photographer/
SUMMARY:Photojournalism and Street Photography - Jim Koepnick Photographer-
  Zoom - Club will be open
DESCRIPTION:\nJim Koepnick is a Digital Journalist and member of the Sigma 
 Ambassador team specializing in\naviation\, sports and documentary photogr
 aphy. His current freelance clients include Sigma\nlenses\, Flying Magazin
 e\, Plane and Pilot\, Air and Space Smithsonian\, Our Wisconsin Magazine\n
 and Cirrus aircraft. Local clients include Oshkosh Area Community Foundati
 on\, Discover\nOshkosh and Old Glory Honor Flight.\nPreviously\, Jim was C
 hief Photographer at the Experimental Aircraft Association for 28 years.\n
 He was responsible for much of EAA's air-to-air photography for its five p
 ublications. He has\nphotographed over 1000 aircraft while on air-to-air m
 issions and supplied over 550 cover\nimages while at EAA.\nKoepnick’s ar
 tistry\, skill and experience have resulted in award-winning images that h
 ave been\nprinted in magazines such as Life\, Time\, Men's Journal\, Peopl
 e and Popular Mechanics. His\nadvertising work includes Columbia Coﬀee\,
  Sigma lenses\, Daher aircraft\, Cirrus aircraft and\nCanon.\nHis photogra
 phy has has been a consistent winner of awards from Aviation Week and Spac
 e\nTechnology\, Wisconsin Imaging Photographers Association\, American Adv
 ertising Federation\nand Calendar Marketing Association. In 2012 he receiv
 ed the George Hall Lifetime\nAchievement award from the International Soci
 ety of Aviation Photographers. In 2023 he\nreceived a career achievement a
 ward from the International Photographic Council at the UN.
END:VEVENT
BEGIN:VTIMEZONE
TZID:America/New_York
X-LIC-LOCATION:America/New_York
BEGIN:DAYLIGHT
DTSTART:20250309T030000
TZOFFSETFROM:-0500
TZOFFSETTO:-0400
TZNAME:EDT
END:DAYLIGHT
END:VTIMEZONE
END:VCALENDAR