BEGIN:VCALENDAR
VERSION:2.0
PRODID:-//wp-events-plugin.com//7.2.3.1//EN
TZID:America/New_York
X-WR-TIMEZONE:America/New_York
BEGIN:VEVENT
UID:348@clevelandphoto.org
DTSTART;TZID=America/New_York:20240621T193000
DTEND;TZID=America/New_York:20240621T210000
DTSTAMP:20240516T172428Z
URL:https://www.clevelandphoto.org/events/jerry-jelinek-trumpet-swans-in-p
 erson-clubhouse-open/
SUMMARY:Jerry Jelinek Trumpet Swans In person clubhouse open
DESCRIPTION:Join us as long-time Cleveland Photographic Society member Jerr
 y Jelinek\nshares his passion for the trumpeter swans that have found a ho
 me in\nCuyahoga Valley National Park.\n\nIn 2023\, Jerry was captivated by
  the first trumpeter swan nest he came\nupon in the Cuyahoga Valley Nation
 al Park. That initial encounter became\na personal project as he documente
 d the 2023 nesting season. Jerry says\nthat project is his most fulfilling
  nature work. His presentation will\nbe centered on the history of trumpet
 er swans in Ohio\, with photos and\nvideo of the CVNP swans. The presentat
 ion will feature over 60 minutes\nof Trumpeter Swan videos that Jerry has 
 captured.\n\nJerry has been a member in the Cleveland Photographic Society
  for nearly\ntwenty years. He currently teaches macro photographic in the 
 CPS\nFundamentals Class. Jerry also leads the Cuyahoga Valley Photographic
 \nSociety photo walks. He previously has presented on black and white\npho
 tography. Jerry also makes presentations to numerous Ohio\nphotography clu
 bs and nature centers.\n\nA photographer with many interests\, Jerry teach
 es music history classes at\nCuyahoga Community College and he may be hear
 d Friday evenings sharing\nbig band music on WKHR FM 91.5.\n\n&nbsp\;\nVis
 it my photography blog at:\nhttp://jerryjelinekphotography.blogspot.com/\n
 \nView my vidoes at:\nhttps://vimeo.com/user8090676\n\nView my still photo
 graphy at:\nhttp://jerryjelinek.smugmug.com/\n&nbsp\;\n\n&nbsp\;\n\n  
END:VEVENT
BEGIN:VTIMEZONE
TZID:America/New_York
X-LIC-LOCATION:America/New_York
BEGIN:DAYLIGHT
DTSTART:20240310T030000
TZOFFSETFROM:-0500
TZOFFSETTO:-0400
TZNAME:EDT
END:DAYLIGHT
END:VTIMEZONE
END:VCALENDAR