BEGIN:VCALENDAR
VERSION:2.0
PRODID:-//wp-events-plugin.com//7.2.3.1//EN
TZID:America/New_York
X-WR-TIMEZONE:America/New_York
BEGIN:VEVENT
UID:896@clevelandphoto.org
DTSTART;TZID=America/New_York:20261127T193000
DTEND;TZID=America/New_York:20261127T210000
DTSTAMP:20260220T212710Z
URL:https://www.clevelandphoto.org/events/jerry-jelinek-photographer/
SUMMARY:Jerry Jelinek Photographer   Trumpeter Swans in Northern Ohio - In-
 person presentation  The club will be open
DESCRIPTION:\n\n\n\n\n\n\n&nbsp\;\n\n\n\n\n\n\n\n\n\n\n\n\n\n\n\n\n\n\n\n\n
 \n\n\n\n\n\n\n\n  \nDescription\n  The History of Trumpeter Swans with a
 n emphasis on Northern Ohio.   \n The presentation will feature behavio
 r videos showcasing the Trumpeter Swan nesting seasons of 2023\, 2024 and 
 2025.  \n\nBiography\nJoin us as long-time Cleveland Photographic Society
  member Jerry Jelinek.                \n\nshares his passion for t
 he trumpeter swans that have found a home inCuyahoga Valley National Park.
 In 2023\, Jerry was captivated by the first trumpeter swan nest he cameupo
 n in the Cuyahoga Valley National Park. That initial encounter becamea per
 sonal project as he documented the 2023 nesting season. Jerry saysthat pro
 ject is his most fulfilling nature work. His presentation willbe centered 
 on the history of trumpeter swans in Ohio\, with photos andvideo of the CV
 NP swans.  The presentation will feature over 60 minutesof Trumpeter Swan
  videos that Jerry has captured.Jerry has been a member in the Cleveland P
 hotographic Society over twenty years.  He currently teaches macro photo
 graphic in the CPSFundamentals Class.  Jerry also leads the Cuyahoga Vall
 ey PhotographicSociety photo walks. He previously has presented on black a
 nd whitephotography.  Jerry also makes presentations to numerous Ohiophot
 ography clubs and nature centers.A photographer with many interests\, Jerr
 y teaches music history classes atCuyahoga Community College and he may be
  heard Friday evenings sharingbig band music on WKHR FM 91.5.   \n\n\n\n
 Website\n\n\n\nhttps://jerryjelinekphotography.blogspot.com/   (note thi
 s is really out of date and I have nothing more recent)\n\n\n\n\n\n\n\n\n\
 n\n\n\n\n\n\n\n\n\n\n\n\n\n\n&nbsp\;\n\n\n\n\n\n\n
END:VEVENT
BEGIN:VTIMEZONE
TZID:America/New_York
X-LIC-LOCATION:America/New_York
BEGIN:STANDARD
DTSTART:20261101T010000
TZOFFSETFROM:-0400
TZOFFSETTO:-0500
TZNAME:EST
END:STANDARD
END:VTIMEZONE
END:VCALENDAR