BEGIN:VCALENDAR
VERSION:2.0
PRODID:-//wp-events-plugin.com//7.2.3.1//EN
TZID:America/New_York
X-WR-TIMEZONE:America/New_York
BEGIN:VEVENT
UID:540@clevelandphoto.org
DTSTART;TZID=America/New_York:20250411T193000
DTEND;TZID=America/New_York:20250411T213000
DTSTAMP:20250131T022305Z
URL:https://www.clevelandphoto.org/events/jennifer-renwick-photographer-zo
 om-presentation-club-will-be-open/
SUMMARY:Taking the Slow Approach: Connecting More Deeply from Behind Your L
 ens - Jennifer Renwick Photographer - Zoom Presentation- Club Will Be Open
DESCRIPTION:\nBio:\n\nJennifer is a full-time nature photographer based in 
 Colorado. For the last eight years\, she's traveled the American West in a
  travel trailer with her partner\, fellow photographer David Kingham\, pho
 tographing the landscapes and teaching photography workshops in various na
 tional parks and wilderness areas.\nJennifer's photographic passion lies i
 n focusing on the smaller details in those landscapes. She enjoys practici
 ng slow photography\, visual storytelling\, and expressing my emotions thr
 ough her imagery. She has a particular passion for photography projects.\n
 \nHer work has been featured in various photography magazines and books\, 
 including LensWork\, Landscape Photography Magazine\, Outdoor Photographer
 \, On Landscape\, and the Lenswork’s “Seeing in Sixes” photography b
 ooks.\n\nPresentation: Taking the Slow Approach: Connecting More Deeply fr
 om Behind Your Lens\n\nDescription:\n\nWhile it’s a relatively new conce
 pt in nature photography\, the idea of slowing down has been embraced acro
 ss many disciplines in recent decades. Applying this approach to photograp
 hy encourages creativity\, helps release expectations\, fosters more thoug
 htful image-making\, and deepens your connection with the subjects you pho
 tograph.\nIn this session\, Jennifer will explore the concept of slow phot
 ography and share how it has transformed her approach to creating impactfu
 l and fulfilling nature imagery. Drawing from her experiences and travels 
 through diverse landscapes\, she will offer insights into crafting meaning
 ful photographs that resonate with viewers.\nJennifer will introduce the p
 rinciples of slow photography and discuss techniques for embracing this mi
 ndful approach. Topics include experimenting with creative ideas\, uncover
 ing stories within the landscape\, and curating photography projects. Join
  her to learn how slowing down can inspire your photography and lead to mo
 re rewarding artistic expression.\n\nWebsite: https://www.jenniferrenwick.
 com/
END:VEVENT
BEGIN:VTIMEZONE
TZID:America/New_York
X-LIC-LOCATION:America/New_York
BEGIN:DAYLIGHT
DTSTART:20250309T030000
TZOFFSETFROM:-0500
TZOFFSETTO:-0400
TZNAME:EDT
END:DAYLIGHT
END:VTIMEZONE
END:VCALENDAR