BEGIN:VCALENDAR
VERSION:2.0
PRODID:-//wp-events-plugin.com//7.2.3.1//EN
TZID:America/New_York
X-WR-TIMEZONE:America/New_York
BEGIN:VEVENT
UID:779@clevelandphoto.org
DTSTART;TZID=America/New_York:20260529T193000
DTEND;TZID=America/New_York:20260529T210000
DTSTAMP:20250811T140708Z
URL:https://www.clevelandphoto.org/events/jennifer-king-photographer/
SUMMARY:Jennifer King Photographer - Zoom - Club will be open
DESCRIPTION:\nWeb: jenniferkingphoto.com\nCREATIVE COMPOSITION: IT’S NOT 
 WHAT YOU PHOTOGRAPH\, IT’S HOW YOU PHOTOGRAPH!\n\nA photo subject can be
  the same\, yet captured in so many different ways. What makes one photogr
 aph stand out above the others? It is simple\, a great composition. Unders
 tanding how our vision responds to an image is the first step in achieving
  success. From the basics of line\, color and form to the use of more adva
 nced techniques\, we will explore and discuss different artistic approache
 s used to create better photos and help you become a better photographer. 
 Creativity spreads… come and catch it!\n\n \n\n\n\nBIO\n\n\nJennifer Kin
 g is an internationally acclaimed nature and fine art photographer with a 
 passion for teaching and inspiring photographers around the world. She dra
 ws on her fine art and design background to bring a fresh perspective to n
 ature photography. She is honored to have been named the first woman ambas
 sador and master photographer in the field of nature photography.\n\nShe h
 as built a respectable reputation with award winning photography\, and is 
 one of the premiere black and white photographers in the country. Jennifer
  was also recognized as the #1 Wildlife Photographer in the US in 2025.\n\
 nJennifer is a Moab Master Photographer and noted as 1 of 15 Amazing Women
  to Follow (by 500px). She is also the founder of PHOTOGRAPHY for the FIGH
 T AGAINST BREAST CANCER (pfabc.org)\, an industry wide organization bringi
 ng together the biggest names in photography to raise money for breast can
 cer research.\n\nYou can find her photography\, video tutorials and interv
 iews in Nature Photographer’s Network\, Outdoor Photographer Magazine\, 
 Shutter Magazine\, Camera in the Wild\, Photography Talk\, Smoky Mountains
  Journal of Photography\, Our State Magazine\, VIA Magazine and more! She 
 also speaks at yearly summits for organizations across the world.\n\n \n\n
END:VEVENT
BEGIN:VTIMEZONE
TZID:America/New_York
X-LIC-LOCATION:America/New_York
BEGIN:DAYLIGHT
DTSTART:20260308T030000
TZOFFSETFROM:-0500
TZOFFSETTO:-0400
TZNAME:EDT
END:DAYLIGHT
END:VTIMEZONE
END:VCALENDAR