BEGIN:VCALENDAR
VERSION:2.0
PRODID:-//wp-events-plugin.com//7.2.3.1//EN
TZID:America/New_York
X-WR-TIMEZONE:America/New_York
BEGIN:VEVENT
UID:870@clevelandphoto.org
DTSTART;TZID=America/New_York:20260501T193000
DTEND;TZID=America/New_York:20260501T210000
DTSTAMP:20251204T021553Z
URL:https://www.clevelandphoto.org/events/jen-sulak-photographer-niche-cra
 ft-this-is-a-zoom-presentation-the-club-will-be-open/
SUMMARY:Jen Sulak Photographer - "Niche Craft" This is a Zoom Presentation.
  The club will be open.
DESCRIPTION:. \n\nTitle - "Niche Craft"\nDescription-  A look at how photo
 graphy can be a journey of niching into the things you love\, v. just the 
 things you do.  We will learn the benefits\, how we can show up in our so
 cials universe and speak the language of our clients!\n\nBiography- Jen S
 ulak is an experimental artist and wedding photographer who loves the conn
 ection that still moments bring in our modern times.  Over 18 years ago s
 he started the journey of becoming a photographer which has brought her to
  2020\, the year that started her hyper-niche brand of Weirdo Weddings Pho
 tography.  This niche speaks to many couples out there looking for accept
 ance\, inclusion and visibility in a saturated wedding industry world.  S
 he is one of many amazing quirky voices in the industry stepping out as 'P
 ink Hair Jen' to share\, collaborate\, connect and CREATE with others.\nA 
 few professional highlights of her career:  Cameos on "Fandemonium" by Ad
 am Richman\, TLC's Say Yes to the Dress: Atlanta\, Non-Binary fashion week
  on Offbeat Wed\, The cover of Quirky Weddings Magazine\, A full feature e
 pisode on Sony's "Facing Creativity" with Brooke Shaden and her Vow Renewa
 l LIVE on Kidd Kraddick in the Morning Radio Show in DFW.  She also began
  her own podcast called "Tattoos and Toddlers" a podcast that looks at hav
 ing a business with young children\, caretaking and fun tattoo stories. He
 r guests are a range of hard-working individuals sharing their REAL life s
 tories and inspirations for us all.   This began inspired by her fellow w
 edding pros struggling to address this in their lives and how it all inter
 twined in the end.\nWebsite\, Instagram\, FB\npinklightimages.com\, weird
 oweddings.com\, pinkhairjen.com\n@pinklightimagesofficial @weirdowedding
 s @pinkhairjen\nZoom!!!! woo hoo :)  (I hope for maybe a future in-perso
 n workshop)\n\nJen Sulak\nPink Light Images / Weirdo Weddings\nWedding Pho
 tography | Conceptual Portraits\nPink Light Images &amp\; Weirdo Weddings 
 uses the artisan's touch to capture and create your special moments and id
 eas.  Contact us for a consult!\n\nFeatured in Unique Bride Magazine\, Of
 fbeat Bride &amp\; Pretty Pear Bride\nAs seen on TLC's "Say Yes to the Cu
 re".\n\n\n\n\nAs seen on The Travel Channel "Fandemonium"www.pinklightimag
 es.com972.395.9156\n\nListen to the Tattoos &amp\; Toddlers Podcast HERE
END:VEVENT
BEGIN:VTIMEZONE
TZID:America/New_York
X-LIC-LOCATION:America/New_York
BEGIN:DAYLIGHT
DTSTART:20260308T030000
TZOFFSETFROM:-0500
TZOFFSETTO:-0400
TZNAME:EDT
END:DAYLIGHT
END:VTIMEZONE
END:VCALENDAR