BEGIN:VCALENDAR
VERSION:2.0
PRODID:-//wp-events-plugin.com//7.2.3.1//EN
TZID:America/New_York
X-WR-TIMEZONE:America/New_York
BEGIN:VEVENT
UID:625@clevelandphoto.org
DTSTART;TZID=America/New_York:20251024T193000
DTEND;TZID=America/New_York:20251024T210000
DTSTAMP:20251022T041522Z
URL:https://www.clevelandphoto.org/events/jeff-jenas-photographer/
SUMMARY:Broadcast by Joe Edelman-The Club will Be Open
DESCRIPTION:Joe Edelman will give a presentation entitled "Understanding Cr
 eativity to Improve Your Photography."  Joe has visited CPS via Zoom seve
 ral times.  He is one of the best educational photographers available.  
 Join your fellow CPS photographers at the clubhouse to gain insight from J
 oe and enjoy some of our awesome popcorn.
END:VEVENT
BEGIN:VTIMEZONE
TZID:America/New_York
X-LIC-LOCATION:America/New_York
BEGIN:DAYLIGHT
DTSTART:20250309T030000
TZOFFSETFROM:-0500
TZOFFSETTO:-0400
TZNAME:EDT
END:DAYLIGHT
END:VTIMEZONE
END:VCALENDAR