BEGIN:VCALENDAR
VERSION:2.0
PRODID:-//wp-events-plugin.com//7.2.3.1//EN
TZID:America/New_York
X-WR-TIMEZONE:America/New_York
BEGIN:VEVENT
UID:659@clevelandphoto.org
DTSTART;TZID=America/New_York:20250510T090000
DTEND;TZID=America/New_York:20250510T110000
DTSTAMP:20250508T164038Z
URL:https://www.clevelandphoto.org/events/its-bird-migration-week-at-sheld
 on-preserve-2/
SUMMARY:IT’S BIRD MIGRATION WEEK AT SHELDON PRESERVE!
DESCRIPTION:IT’S BIRD MIGRATION WEEK AT SHELDON PRESERVE!\nOur first fiel
 d trip of spring will be to Sheldon Preserve in Huron OH\n2715 Cleveland R
 oad W\nHuron\, OH 44839\n\nBring your cameras and a desire for photography
  and fellowship.\nMay 10 2025\n9am-? We will find a place for lunch for th
 ose who want to go\nhttps://ohiodnr.gov/go-and-do/plan-a-visit/find-a-prop
 erty/sheldon-marsh-state-nature-preserve\nIf you can shoot me an email tha
 t you are coming that would be great just so I know I will not be alone!\n
 \nfieldtrips@clevelandphoto.org\nKim Wasielewski Field Trip Chair 440 570 
 5968\n\n\nphoto credit Ken Srail\n\nhttps://birdinghotspots.org/hotspot/L2
 75453\n\nsheldon marsh map  
END:VEVENT
BEGIN:VTIMEZONE
TZID:America/New_York
X-LIC-LOCATION:America/New_York
BEGIN:DAYLIGHT
DTSTART:20250309T030000
TZOFFSETFROM:-0500
TZOFFSETTO:-0400
TZNAME:EDT
END:DAYLIGHT
END:VTIMEZONE
END:VCALENDAR