BEGIN:VCALENDAR
VERSION:2.0
PRODID:-//wp-events-plugin.com//7.2.3.1//EN
TZID:America/New_York
X-WR-TIMEZONE:America/New_York
BEGIN:VEVENT
UID:721@clevelandphoto.org
DTSTART;TZID=America/New_York:20260924T193000
DTEND;TZID=America/New_York:20260924T220000
DTSTAMP:20251116T033216Z
URL:https://www.clevelandphoto.org/events/iphone-photography-class-3/
SUMMARY:iPhone Photography Class 3
DESCRIPTION:The final class of our iPhone Photography course.\n\nNOTE: Part
 icipation in CPS School program offerings requires enrollment in the entir
 e course. Schedule for individual sessions is subject to change.
CATEGORIES:School
END:VEVENT
BEGIN:VTIMEZONE
TZID:America/New_York
X-LIC-LOCATION:America/New_York
BEGIN:DAYLIGHT
DTSTART:20260308T030000
TZOFFSETFROM:-0500
TZOFFSETTO:-0400
TZNAME:EDT
END:DAYLIGHT
END:VTIMEZONE
END:VCALENDAR