BEGIN:VCALENDAR
VERSION:2.0
PRODID:-//wp-events-plugin.com//7.2.3.1//EN
TZID:America/New_York
X-WR-TIMEZONE:America/New_York
BEGIN:VEVENT
UID:582@clevelandphoto.org
DTSTART;TZID=America/New_York:20251014T193000
DTEND;TZID=America/New_York:20251014T220000
DTSTAMP:20241219T214921Z
URL:https://www.clevelandphoto.org/events/iphone-photography-class-2/
SUMMARY:iPhone Photography Class 3
DESCRIPTION:TBD\n\nNOTE: Participation in CPS School program offerings requ
 ires enrollment in the entire course. Schedule for individual sessions is 
 subject to change.
CATEGORIES:School
END:VEVENT
BEGIN:VTIMEZONE
TZID:America/New_York
X-LIC-LOCATION:America/New_York
BEGIN:DAYLIGHT
DTSTART:20250309T030000
TZOFFSETFROM:-0500
TZOFFSETTO:-0400
TZNAME:EDT
END:DAYLIGHT
END:VTIMEZONE
END:VCALENDAR