BEGIN:VCALENDAR
VERSION:2.0
PRODID:-//wp-events-plugin.com//7.2.3.1//EN
TZID:America/New_York
X-WR-TIMEZONE:America/New_York
BEGIN:VEVENT
UID:720@clevelandphoto.org
DTSTART;TZID=America/New_York:20260917T193000
DTEND;TZID=America/New_York:20260917T220000
DTSTAMP:20251116T033209Z
URL:https://www.clevelandphoto.org/events/iphone-photography-class-2-2/
SUMMARY:iPhone Photography Class 2
DESCRIPTION:The second class of our iPhone Photography course.\n\nNOTE: Par
 ticipation in CPS School program offerings requires enrollment in the enti
 re course. Schedule for individual sessions is subject to change.
CATEGORIES:School
END:VEVENT
BEGIN:VTIMEZONE
TZID:America/New_York
X-LIC-LOCATION:America/New_York
BEGIN:DAYLIGHT
DTSTART:20260308T030000
TZOFFSETFROM:-0500
TZOFFSETTO:-0400
TZNAME:EDT
END:DAYLIGHT
END:VTIMEZONE
END:VCALENDAR