BEGIN:VCALENDAR
VERSION:2.0
PRODID:-//wp-events-plugin.com//7.2.3.1//EN
TZID:America/New_York
X-WR-TIMEZONE:America/New_York
BEGIN:VEVENT
UID:586@clevelandphoto.org
DTSTART;TZID=America/New_York:20251012T100000
DTEND;TZID=America/New_York:20251012T120000
DTSTAMP:20241219T215206Z
URL:https://www.clevelandphoto.org/events/iphone-class-field-trip-stone-ga
 rden-farm/
SUMMARY:iPhone Class Field Trip - Stone Garden Farm
DESCRIPTION:&nbsp\;\n\n\n\nThe iPhone Class field trip will be to the Museu
 m of Western Reserve Farms &amp\; Equipment at Stone Garden Farm and Villa
 ge in Richfield!\n\nLocated only about 15 minutes from the Club\, the Muse
 um seeks to preserve the tools\, machines\, knowledge\, abilities and stor
 ies of the master tradesmen and women of the past. On their fifty-eight ac
 res\, they are collecting the equipment used by every trade typically foun
 d in a small community of 150 years ago. There are also a variety of resto
 red and under-restoration buildings to explore.\n\nWhere: The Museum is lo
 cated at 2891 Southern Rd\, Richfield\, OH 44286 For a map\, click here.\n
 \nWho: This trip is open to current CPS Fundamentals students only.\n\nCos
 t: This trip is FREE\, but the Farm is hoping to receive images from atten
 dees for use on their website. There is also a gift shop on site and all p
 roceeds from sales help support the continued upkeep and expansion of the 
 Farm and Village\n\nTime: 10:00 am until Noon\n\nWhat to Bring: Wide angle
  lens suited for Landscape\, lens for Macro\, Tripod\, Sun screen\, and bu
 g spray.\n\nMore info: Visit their website\n\nQuestions?: schooldirector@c
 levelandphoto.org\n\nPLEASE NOTE: As with all field trips\, CPS cannot be 
 held responsible for any accidents or injuries - participate at your own r
 isk.
CATEGORIES:School
END:VEVENT
BEGIN:VTIMEZONE
TZID:America/New_York
X-LIC-LOCATION:America/New_York
BEGIN:DAYLIGHT
DTSTART:20250309T030000
TZOFFSETFROM:-0500
TZOFFSETTO:-0400
TZNAME:EDT
END:DAYLIGHT
END:VTIMEZONE
END:VCALENDAR