BEGIN:VCALENDAR
VERSION:2.0
PRODID:-//wp-events-plugin.com//7.2.3.1//EN
TZID:America/New_York
X-WR-TIMEZONE:America/New_York
BEGIN:VEVENT
UID:723@clevelandphoto.org
DTSTART;TZID=America/New_York:20260920T100000
DTEND;TZID=America/New_York:20260920T120000
DTSTAMP:20250629T153947Z
URL:https://www.clevelandphoto.org/events/iphone-class-field-trip-stone-ga
 rden-farm-3/
SUMMARY:iPhone Class Field Trip - Stone Garden Farm
DESCRIPTION:&nbsp\;\n\n\n\nThe iPhone Class field trip will be to the Museu
 m of Western Reserve Farms &amp\; Equipment at Stone Garden Farm and Villa
 ge in Richfield!\n\nLocated only about 15 minutes from the Club\, the Muse
 um seeks to preserve the tools\, machines\, knowledge\, abilities and stor
 ies of the master tradesmen and women of the past. On their fifty-eight ac
 res\, they are collecting the equipment used by every trade typically foun
 d in a small community of 150 years ago. There are also a variety of resto
 red and under-restoration buildings to explore.\n\nWhere: The Museum is lo
 cated at 2891 Southern Rd\, Richfield\, OH 44286 For a map\, click here.\n
 \nWho: This trip is open to current CPS iPhone students only.\n\nCost: Thi
 s trip is FREE\, but the Farm is hoping to receive images from attendees f
 or use on their website. There is also a gift shop on site and all proceed
 s from sales help support the continued upkeep and expansion of the Farm a
 nd Village\n\nTime: 10:00 am until Noon\n\nWhat to Bring: iPhone\, sunscre
 en\, and bug spray.\n\nMore info: Visit their website\n\nQuestions?: schoo
 ldirector@clevelandphoto.org\n\nPLEASE NOTE: As with all field trips\, CPS
  cannot be held responsible for any accidents or injuries - participate at
  your own risk.
CATEGORIES:School
END:VEVENT
BEGIN:VTIMEZONE
TZID:America/New_York
X-LIC-LOCATION:America/New_York
BEGIN:DAYLIGHT
DTSTART:20260308T030000
TZOFFSETFROM:-0500
TZOFFSETTO:-0400
TZNAME:EDT
END:DAYLIGHT
END:VTIMEZONE
END:VCALENDAR