BEGIN:VCALENDAR
VERSION:2.0
PRODID:-//wp-events-plugin.com//7.2.3.1//EN
TZID:America/New_York
X-WR-TIMEZONE:America/New_York
BEGIN:VEVENT
UID:769@clevelandphoto.org
DTSTART;TZID=America/New_York:20251118T190000
DTEND;TZID=America/New_York:20251118T210000
DTSTAMP:20250815T151423Z
URL:https://www.clevelandphoto.org/events/introduction-to-mat-cutting-with
 -dennis-wert-please-read-more-info-26/
SUMMARY:Introduction to Mat Cutting with Dennis Wert - PLEASE READ "MORE IN
 FO"
DESCRIPTION:&nbsp\;\nIntroduction to Mat Cutting and Photo Mounting\nJoin u
 s on Tuesday evenings for our upcoming workshops on mat cutting and photo 
 mounting\, where you can master the skills to present your work with profe
 ssional finesse.  your instructor will guide you through a mat cutting an
 d mounting method\, ensuring your photos are beautifully and durably displ
 ayed. Perfect for personal projects\, exhibitions or professional portfoli
 os. Don't miss this hands on opportunity to enhance your craft!\n\n&nbsp\;
 \n\nPrior to your first session\, please read "Learn to Cut Your Own Mats"
  by clicking here
END:VEVENT
BEGIN:VTIMEZONE
TZID:America/New_York
X-LIC-LOCATION:America/New_York
BEGIN:STANDARD
DTSTART:20251102T010000
TZOFFSETFROM:-0400
TZOFFSETTO:-0500
TZNAME:EST
END:STANDARD
END:VTIMEZONE
END:VCALENDAR