BEGIN:VCALENDAR
VERSION:2.0
PRODID:-//wp-events-plugin.com//7.2.3.1//EN
TZID:America/New_York
X-WR-TIMEZONE:America/New_York
BEGIN:VEVENT
UID:526@clevelandphoto.org
DTSTART;TZID=America/New_York:20250121T190000
DTEND;TZID=America/New_York:20250121T210000
DTSTAMP:20250121T150300Z
URL:https://www.clevelandphoto.org/events/introduction-to-mat-cutting-with
 -dennis-wert-please-read-more-info-12/
SUMMARY:CANCELLED DUE TO COLD  Introduction to Mat Cutting with Dennis Wert
DESCRIPTION:&nbsp\;\nTonight's Mat Class is cancelled due to the cold\nIntr
 oduction to Mat Cutting and Photo Mounting\nJoin us on Tuesday evenings fo
 r our upcoming workshops on mat cutting and photo mounting\, where you can
  master the skills to present your work with professional finesse.  your 
 instructor will guide you through a mat cutting and mounting method\, ensu
 ring your photos are beautifully and durably displayed. Perfect for person
 al projects\, exhibitions or professional portfolios. Don't miss this hand
 s on opportunity to enhance your craft!\n\n&nbsp\;\n\nPrior to your first 
 session\, please read "Learn to Cut Your Own Mats" by clicking here
END:VEVENT
BEGIN:VTIMEZONE
TZID:America/New_York
X-LIC-LOCATION:America/New_York
BEGIN:STANDARD
DTSTART:20241103T010000
TZOFFSETFROM:-0400
TZOFFSETTO:-0500
TZNAME:EST
END:STANDARD
END:VTIMEZONE
END:VCALENDAR