BEGIN:VCALENDAR
VERSION:2.0
PRODID:-//wp-events-plugin.com//7.2.3.1//EN
TZID:America/New_York
X-WR-TIMEZONE:America/New_York
BEGIN:VEVENT
UID:134@clevelandphoto.org
DTSTART;TZID=America/New_York:20230721T193000
DTEND;TZID=America/New_York:20230721T193000
DTSTAMP:20230718T125019Z
URL:https://www.clevelandphoto.org/events/introduction-to-ai-print-night-p
 resentation/
SUMMARY:Introduction to Topaz Photo AI In person event
DESCRIPTION:\nJuly 21 2023\n7:30 pm\n\nJoin Gary Wood for an  introduction
  to Topaz Photo AI. It will include short excerpts from reviews\, Topaz pl
 ans for Photo AI\, and a quick demonstration. This will include examples o
 f how it can improve a photograph\, and how to avoid some of the unwanted 
 anomalies. Members that have used the other Topaz products will be encoura
 ged to comment on how those products compare to Photo AI.\n\nGary studied 
 photography at the University of Minnesota in the late 1970’s.  He joi
 ned CPS in 1982 and enjoyed the competitions\, coaching\, fieldtrips\, and
  workshops. Family life and work became more demanding\, and he left CPS u
 ntil he retired and rejoined in 2018. He then took all the classes offered
  by CPS and is again enjoying the support and comradery. Gary has chosen t
 o remain a non-professional that primarily photographs nature\, travel\, a
 nd special events. He has contributed several photographs to Snapshot\, an
  article to Darkroom Door\, and has and is mentoring how to photograph bir
 ds in flight.\n
END:VEVENT
BEGIN:VTIMEZONE
TZID:America/New_York
X-LIC-LOCATION:America/New_York
BEGIN:DAYLIGHT
DTSTART:20230312T030000
TZOFFSETFROM:-0500
TZOFFSETTO:-0400
TZNAME:EDT
END:DAYLIGHT
END:VTIMEZONE
END:VCALENDAR